BEGIN:VCALENDAR
VERSION:2.0
PRODID:Imitheme.com 
BEGIN:VEVENT
UID:20260421T0558151592217395
DTSTAMP;TZID=UTC:2026-04-21 05:58:15
DTSTART;TZID=America/Los_Angeles:20251104T000000
DTEND;TZID=America/Los_Angeles:20251104T000000
SUMMARY:Bible Study with Bob Carlson
LOCATION:400 W Wendell Street\, Endicott NY 13760
DESCRIPTION:Join Rev. Bob Carlson each Tuesday morning for a study of God\'s word. The informal study group meets each Thursday morning in the nave of the church. Please join us at any time. The group enjoys lively discussions, and all are welcome.
URL:https://standrewsendicott.org/eventer/bible-study-with-jonathan-groves/
END:VEVENT
END:VCALENDAR
