BEGIN:VCALENDAR
VERSION:2.0
PRODID:Imitheme.com 
BEGIN:VEVENT
UID:20260419T090925611840371
DTSTAMP;TZID=UTC:2026-04-19 09:09:25
DTSTART;TZID=America/Los_Angeles:20240327T000000
DTEND;TZID=America/Los_Angeles:20240327T000000
SUMMARY:Spy Wednesday - Tenebrae Service
LOCATION:400 W Wendell Street\, Endicott NY 13760
DESCRIPTION:Tenebrae – An adaptation of the ancient monastic liturgy of Matins for Holy Wednesday, composed of antiphons, psalms, readings from scripture, readings from the Church Fathers, and prayers.
URL:https://standrewsendicott.org/eventer/tenebrae-service/
END:VEVENT
END:VCALENDAR
